Workbook

Sheet Arkusz1
A2: 15 | B2: 48 | C2: 49 | E2: 0.033900463 | I2: =CONCATENATE(B2,":",C2) -> 48:49
A3: 48 | B3: 36 | C3: 56 | E3: 0.025648148 | I3: =CONCATENATE(B3,":",C3) -> 36:56
A4: 65 | B4: 39 | C4: 39 | E4: 0.027534722 | I4: =CONCATENATE(B4,":",C4) -> 39:39
A5: 11 | B5: 40 | C5: 4 | E5: 0.027824074 | I5: =CONCATENATE(B5,":",C5) -> 40:4
A6: 63 | B6: 41 | C6: 38 | E6: 0.028912037 | I6: =CONCATENATE(B6,":",C6) -> 41:38
A7: 62 | B7: 36 | C7: 17 | E7: 0.025196759 | I7: =CONCATENATE(B7,":",C7) -> 36:17
A8: 5 | B8: 38 | C8: 31 | E8: 0.026747685 | I8: =CONCATENATE(B8,":",C8) -> 38:31
A9: 69 | B9: 39 | C9: 31 | E9: 0.02744213 | I9: =CONCATENATE(B9,":",C9) -> 39:31
A10: 8 | B10: 50 | C10: 36 | E10: 0.035138889 | I10: =CONCATENATE(B10,":",C10) -> 50:36
A11: 25 | B11: 37 | C11: 53 | E11: 0.02630787 | I11: =CONCATENATE(B11,":",C11) -> 37:53
A12: 31 | B12: 37 | C12: 59 | E12: 0.026377315 | I12: =CONCATENATE(B12,":",C12) -> 37:59
A13: 58 | B13: 40 | C13: 16 | E13: 0.027962963 | I13: =CONCATENATE(B13,":",C13) -> 40:16
... A43: 17 | B43: 53 | C43: 14 | E43: 0.036967593 | I43: =CONCATENATE(B43,":",C43) -> 53:14

Sheet Arkusz3
D7: 2 | E7: 0.024849537 | F7: Pietrzak Olgierd | G7: Pietrzak Beata | H7: T2 MIKST | I7: WSTiR Warta | L7: 41 | M7: 0.025138889 | N7: Tylikowski Piotr | P7: T1 M | Q7: ŚKTK Neptun
D8: 42 | E8: 0.02587963 | F8: Polewik Aleksander | G8: Polewik Joanna | H8: T2 MIKST | I8: KTK PtasiUskok | L8: 48 | M8: 0.025648148 | N8: Kudrys Rafał | P8: T1 M | Q8: Tołhaj GDK
D9: 5 | E9: 0.026747685 | F9: Tekla Mariusz | G9: Julia Tekla | H9: T2 MIKST | L9: 30 | M9: 0.025729167 | N9: Suchy Bogumił | P9: T1 M | Q9: ŚKTK Neptun
D10: 69 | E10: 0.02744213 | F10: Ogiegło Krystyna | G10: Kawecki | H10: T2 MIKST | L10: 43 | M10: 0.025902778 | N10: Korol Valentyn | P10: T1 M | Q10: Tołhaj GDK
D11: 45 | E11: 0.027789352 | F11: Łatka Piotr | G11: Guzy Dominika | H11: T2 MIKST | I11: Tołhaj GDK | L11: 66 | M11: 0.026053241 | N11: Jopek Grzegorz | P11: T1 M | Q11: Tołhaj GDK
D12: 11 | E12: 0.027824074 | F12: Wiśniewska Katarzyna | G12: Kempny Mirek | H12: T2 MIKST | I12: ŚKTK Neptun | L12: 1 | M12: 0.026284722 | N12: Wieczorek Damian | P12: T1 M
D13: 75 | E13: 0.031400463 | F13: Sitek Przemysław | G13: Słowik Roksana | H13: T2 MIKST | L13: 25 | M13: 0.02630787 | N13: Kulas Dominik | P13: T1 M
D14: 67 | E14: 0.042268519 | F14: Łoziński Bartłomiej | G14: Łozińska Zuzanna | H14: T2 MIKST | I14: Tołhaj GDK | L14: 14 | M14: 0.026342593 | N14: Glegoła Marcin | P14: T1 M | Q14: Tołhaj GDK
D15: 76 | F15: Honisz Adam | G15: Hajda Jolanta | H15: T2 MIKST | I15: ŚKTK Neptun | L15: 20 | M15: 0.026481481 | N15: Michalski Krzysztof | P15: T1 M | Q15: WSTiR Warta
D16: 34 | F16: Pytko Sebastian | G16: Pytko Gloria +Helena | H16: T2 MIKST | I16: ŚKTK Neptun | L16: 44 | M16: 0.02849537 | N16: Jucha Sebastian | P16: T1 M | Q16: KTK PtasiUskok
L17: 63 | M17: 0.028912037 | N17: Jucha Roman | P17: T1 M | Q17: KTK PtasiUskok
L18: 9 | M18: 0.029814815 | N18: Gliszczyński Grzegorz | P18: T1 M | Q18: Tołhaj GDK
L19: 56 | M19: 0.03037037 | N19: Marszałek Stanisław | P19: T1 M | Q19: kajaki.na.skawie
L20: 49 | M20: 0.031724537 | N20: Karasiński Roman | P20: T1 M | Q20: Baniaty Karaś
D21: 31 | E21: 0.026377315 | F21: Ościłowicz Ewa | H21: T1 K | I21: Tołhaj GDK | L21: 40 | M21: 0.032418981 | N21: Kowalski Zbigniew | P21: T1 M | Q21: Tołhaj GDK
D22: 38 | E22: 0.027199074 | F22: Kulanica Marta | H22: T1 K | I22: Damy w kajaku | L22: 15 | M22: 0.033900463 | N22: Lenarczyk Sławomir | P22: T1 M | Q22: ŚKTK Neptun
D23: 65 | E23: 0.027534722 | F23: Kołtan Magdalena | H23: T1 K | I23: Tołhaj GDK | L23: 64 | M23: 0.041319444 | N23: Nabiałek Piotr | P23: T1 M | Q23: ŚKTK Neptun
D24: 58 | E24: 0.027962963 | F24: Jagła Katarzyna | H24: T1 K | I24: Tołhaj GDK | L24: 80 | M24: 0.042118056 | N24: Mordarski Miłosz | P24: T1 M
D25: 55 | E25: 0.030173611 | F25: Jaroniak Dorota | H25: T1 K | I25: ŚKTK Neptun | L25: 77 | N25: Romik Sławomir | P25: T1 M
D26: 78 | E26: 0.030590278 | F26: Ochocka-Olszak Beata | H26: T1 K | I26: WSTiR Warta | L26: 33 | N26: Dawczyk Mirosław | P26: T1 M
D27: 61 | E27: 0.041712963 | F27: Kotyl Edyta | H27: T1 K | I27: ŚKTK Neptun | L27: 27 | N27: Tkocz Jacek | P27: T1 M | Q27: ŚKTK Neptun
D28: 53 | E28: 0.041736111 | F28: Mordarska Katarzyna | H28: T1 K | L28: 24 | N28: Wielgus Kacper | P28: T1 M | Q28: ŚKTK Neptun
D29: 3 | F29: Romik Aleksandra | H29: T1 K | L29: 19 | N29: Wydra Dawid | P29: T1 M | Q29: ŚKTK Neptun
D30: 4 | F30: Wydra Zuzanna | H30: T1 K | I30: ŚKTK Neptun | L30: 18 | N30: Romik Dominik | P30: T1 M
D31: 28 | F31: Madejska Zuzanna | H31: T1 K | I31: ŚKTK Neptun | L31: 12 | N31: Wróblewski Dawid | P31: T1 M | Q31: Tołhaj GDK
D32: 32 | F32: Tkocz Gertruda | H32: T1 K | I32: ŚKTK Neptun | L32: 10 | N32: Zieleziński Marek | P32: T1 M | Q32: ŚKTK Neptun
D33: 35 | F33: Pietrek Martina | H33: T1 K | I33: ŚKTK Neptun | L33: 7 | N33: Drozdek Michał | P33: T1 M
D34: 37 | F34: Burszczan Joanna | H34: T1 K | I34: ŚKTK Neptun | N34: Potempa Mariusz | P34: T1 M | Q34: Tołhaj GDK
D35: 50 | F35: Bielak Patrycja | H35: T1 K | I35: ŚKTK Neptun
D36: 68 | F36: Romik Katarzyna | H36: T1 K
D37: 73 | F37: Łada Roksana | H37: T1 K | I37: ŚKTK Neptun
L42: 46 | M42: 0.024953704 | N42: Makiłło Przemysław | O42: Pech Waldemar | P42: T2 M | Q42: WSTiR Warta
L43: 62 | M43: 0.025196759 | N43: Kapek Artur | O43: Kapek Jan | P43: T2 M
L44: 79 | M44: 0.025219907 | N44: Łączak Adam | O44: Paliszewski Andrzej | P44: T2 M
L45: 57 | M45: 0.026747685 | N45: Twardoń Adrian | O45: Kotas Paweł | P45: T2 M
L46: 39 | M46: 0.026956019 | N46: Stryjski Artur | O46: Rembowiecki Marian | P46: T2 M | Q46: WSTiR Warta
L47: 26 | M47: 0.03119213 | N47: Wróblewski Adam | O47: Bytowski Zbigniew | P47: T2 M | Q47: WSTiR Warta
L48: 17 | M48: 0.036967593 | N48: Burszczan Ireneusz` | O48: Burszczan Piotr | P48: T2 M | Q48: ŚKTK Neptun
L49: 21 | N49: Gumuła Daniel | O49: Karol Caputa | P49: T2 M | Q49: ŚKTK Neptun
L50: 54 | N50: Skoczykłoda Czesław | O50: Skoczykłoda Czarek | P50: T2 M | Q50: Tołhaj GDK
L51: 60 | N51: Łada Patryk | O51: Stanaszek Łukasz | P51: T2 M | Q51: ŚKTK Neptun
L52: 74 | N52: Pudło Zbigniew | O52: Ochot Czesław | P52: T2 M

Sheet Arkusz4
B2: 43 | C2: =IFERROR(VLOOKUP(B2,Arkusz1!$A$2:$E$43,5,FALSE),"") -> 0.025902778 | D2: Korol Valentyn | F2: T1 M | G2: Tołhaj GDK
B3: 55 | C3: =IFERROR(VLOOKUP(B3,Arkusz1!$A$2:$E$43,5,FALSE),"") -> 0.030173611 | D3: Jaroniak Dorota | F3: T1 K | G3: ŚKTK Neptun
B4: 48 | C4: =IFERROR(VLOOKUP(B4,Arkusz1!$A$2:$E$43,5,FALSE),"") -> 0.025648148 | D4: Kudrys Rafał | F4: T1 M | G4: Tołhaj GDK
B5: 42 | C5: =IFERROR(VLOOKUP(B5,Arkusz1!$A$2:$E$43,5,FALSE),"") -> 0.02587963 | D5: Polewik Aleksander | E5: Polewik Joanna | F5: T2 MIKST | G5: KTK PtasiUskok
B6: 41 | C6: =IFERROR(VLOOKUP(B6,Arkusz1!$A$2:$E$43,5,FALSE),"") -> 0.025138889 | D6: Tylikowski Piotr | F6: T1 M | G6: ŚKTK Neptun
B7: 20 | C7: =IFERROR(VLOOKUP(B7,Arkusz1!$A$2:$E$43,5,FALSE),"") -> 0.026481481 | D7: Michalski Krzysztof | F7: T1 M | G7: WSTiR Warta
B8: 45 | C8: =IFERROR(VLOOKUP(B8,Arkusz1!$A$2:$E$43,5,FALSE),"") -> 0.027789352 | D8: Łatka Piotr | E8: Guzy Dominika | F8: T2 MIKST | G8: Tołhaj GDK
B9: 49 | C9: =IFERROR(VLOOKUP(B9,Arkusz1!$A$2:$E$43,5,FALSE),"") -> 0.031724537 | D9: Karasiński Roman | F9: T1 M | G9: Baniaty Karaś
B10: 67 | C10: =IFERROR(VLOOKUP(B10,Arkusz1!$A$2:$E$43,5,FALSE),"") -> 0.042268519 | D10: Łoziński Bartłomiej | E10: Łozińska Zuzanna | F10: T2 MIKST | G10: Tołhaj GDK
B11: 12 | C11: =IFERROR(VLOOKUP(B11,Arkusz1!$A$2:$E$43,5,FALSE),"") | D11: Wróblewski Dawid | F11: T1 M | G11: Tołhaj GDK
B12: 44 | C12: =IFERROR(VLOOKUP(B12,Arkusz1!$A$2:$E$43,5,FALSE),"") -> 0.02849537 | D12: Jucha Sebastian | F12: T1 M | G12: KTK PtasiUskok
B13: 15 | C13: =IFERROR(VLOOKUP(B13,Arkusz1!$A$2:$E$43,5,FALSE),"") -> 0.033900463 | D13: Lenarczyk Sławomir | F13: T1 M | G13: ŚKTK Neptun
B14: 10 | C14: =IFERROR(VLOOKUP(B14,Arkusz1!$A$2:$E$43,5,FALSE),"") | D14: Zieleziński Marek | F14: T1 M | G14: ŚKTK Neptun
B15: 62 | C15: =IFERROR(VLOOKUP(B15,Arkusz1!$A$2:$E$43,5,FALSE),"") -> 0.025196759 | D15: Kapek Artur | E15: Kapek Jan | F15: T2 M
B16: 66 | C16: =IFERROR(VLOOKUP(B16,Arkusz1!$A$2:$E$43,5,FALSE),"") -> 0.026053241 | D16: Jopek Grzegorz | F16: T1 M | G16: Tołhaj GDK
B17: 25 | C17: =IFERROR(VLOOKUP(B17,Arkusz1!$A$2:$E$43,5,FALSE),"") -> 0.02630787 | D17: Kulas Dominik | F17: T1 M
B18: 5 | C18: =IFERROR(VLOOKUP(B18,Arkusz1!$A$2:$E$43,5,FALSE),"") -> 0.026747685 | D18: Tekla Mariusz | E18: Julia Tekla | F18: T2 MIKST
B19: 63 | C19: =IFERROR(VLOOKUP(B19,Arkusz1!$A$2:$E$43,5,FALSE),"") -> 0.028912037 | D19: Jucha Roman | F19: T1 M | G19: KTK PtasiUskok
B20: 33 | C20: =IFERROR(VLOOKUP(B20,Arkusz1!$A$2:$E$43,5,FALSE),"") | D20: Dawczyk Mirosław | F20: T1 M
B21: 75 | C21: =IFERROR(VLOOKUP(B21,Arkusz1!$A$2:$E$43,5,FALSE),"") -> 0.031400463 | D21: Sitek Przemysław | E21: Słowik Roksana | F21: T2 MIKST
B22: 69 | C22: =IFERROR(VLOOKUP(B22,Arkusz1!$A$2:$E$43,5,FALSE),"") -> 0.02744213 | D22: Ogiegło Krystyna | E22: Kawecki | F22: T2 MIKST
B23: 11 | C23: =IFERROR(VLOOKUP(B23,Arkusz1!$A$2:$E$43,5,FALSE),"") -> 0.027824074 | D23: Wiśniewska Katarzyna | E23: Kempny Mirek | F23: T2 MIKST | G23: ŚKTK Neptun
B24: 30 | C24: =IFERROR(VLOOKUP(B24,Arkusz1!$A$2:$E$43,5,FALSE),"") -> 0.025729167 | D24: Suchy Bogumił | F24: T1 M | G24: ŚKTK Neptun
B25: 76 | C25: =IFERROR(VLOOKUP(B25,Arkusz1!$A$2:$E$43,5,FALSE),"") | D25: Honisz Adam | E25: Hajda Jolanta | F25: T2 MIKST | G25: ŚKTK Neptun
B26: 19 | C26: =IFERROR(VLOOKUP(B26,Arkusz1!$A$2:$E$43,5,FALSE),"") | D26: Wydra Dawid | F26: T1 M | G26: ŚKTK Neptun
B27: 54 | C27: =IFERROR(VLOOKUP(B27,Arkusz1!$A$2:$E$43,5,FALSE),"") | D27: Skoczykłoda Czesław | E27: Skoczykłoda Czarek | F27: T2 M | G27: Tołhaj GDK
B28: 68 | C28: =IFERROR(VLOOKUP(B28,Arkusz1!$A$2:$E$43,5,FALSE),"") | D28: Romik Katarzyna | F28: T1 K
B29: 3 | C29: =IFERROR(VLOOKUP(B29,Arkusz1!$A$2:$E$43,5,FALSE),"") | D29: Romik Aleksandra | F29: T1 K
B30: 77 | C30: =IFERROR(VLOOKUP(B30,Arkusz1!$A$2:$E$43,5,FALSE),"") | D30: Romik Sławomir | F30: T1 M
B31: 18 | C31: =IFERROR(VLOOKUP(B31,Arkusz1!$A$2:$E$43,5,FALSE),"") | D31: Romik Dominik | F31: T1 M
B32: 1 | C32: =IFERROR(VLOOKUP(B32,Arkusz1!$A$2:$E$43,5,FALSE),"") -> 0.026284722 | D32: Wieczorek Damian | F32: T1 M
B33: 79 | C33: =IFERROR(VLOOKUP(B33,Arkusz1!$A$2:$E$43,5,FALSE),"") -> 0.025219907 | D33: Łączak Adam | E33: Paliszewski Andrzej | F33: T2 M
B34: 40 | C34: =IFERROR(VLOOKUP(B34,Arkusz1!$A$2:$E$43,5,FALSE),"") -> 0.032418981 | D34: Kowalski Zbigniew | F34: T1 M | G34: Tołhaj GDK
B35: 61 | C35: =IFERROR(VLOOKUP(B35,Arkusz1!$A$2:$E$43,5,FALSE),"") -> 0.041712963 | D35: Kotyl Edyta | F35: T1 K | G35: ŚKTK Neptun
B36: 64 | C36: =IFERROR(VLOOKUP(B36,Arkusz1!$A$2:$E$43,5,FALSE),"") -> 0.041319444 | D36: Nabiałek Piotr | F36: T1 M | G36: ŚKTK Neptun
B37: 56 | C37: =IFERROR(VLOOKUP(B37,Arkusz1!$A$2:$E$43,5,FALSE),"") -> 0.03037037 | D37: Marszałek Stanisław | F37: T1 M | G37: kajaki.na.skawie
B38: 50 | C38: =IFERROR(VLOOKUP(B38,Arkusz1!$A$2:$E$43,5,FALSE),"") | D38: Bielak Patrycja | F38: T1 K | G38: ŚKTK Neptun
B39: 28 | C39: =IFERROR(VLOOKUP(B39,Arkusz1!$A$2:$E$43,5,FALSE),"") | D39: Madejska Zuzanna | F39: T1 K | G39: ŚKTK Neptun
B40: 35 | C40: =IFERROR(VLOOKUP(B40,Arkusz1!$A$2:$E$43,5,FALSE),"") | D40: Pietrek Martina | F40: T1 K | G40: ŚKTK Neptun
B41: 21 | C41: =IFERROR(VLOOKUP(B41,Arkusz1!$A$2:$E$43,5,FALSE),"") | D41: Gumuła Daniel | E41: Karol Caputa | F41: T2 M | G41: ŚKTK Neptun
B42: 60 | C42: =IFERROR(VLOOKUP(B42,Arkusz1!$A$2:$E$43,5,FALSE),"") | D42: Łada Patryk | E42: Stanaszek Łukasz | F42: T2 M | G42: ŚKTK Neptun
B43: 78 | C43: =IFERROR(VLOOKUP(B43,Arkusz1!$A$2:$E$43,5,FALSE),"") -> 0.030590278 | D43: Ochocka-Olszak Beata | F43: T1 K | G43: WSTiR Warta
B44: 26 | C44: =IFERROR(VLOOKUP(B44,Arkusz1!$A$2:$E$43,5,FALSE),"") -> 0.03119213 | D44: Wróblewski Adam | E44: Bytowski Zbigniew | F44: T2 M | G44: WSTiR Warta
B45: 46 | C45: =IFERROR(VLOOKUP(B45,Arkusz1!$A$2:$E$43,5,FALSE),"") -> 0.024953704 | D45: Makiłło Przemysław | E45: Pech Waldemar | F45: T2 M | G45: WSTiR Warta
B46: 39 | C46: =IFERROR(VLOOKUP(B46,Arkusz1!$A$2:$E$43,5,FALSE),"") -> 0.026956019 | D46: Stryjski Artur | E46: Rembowiecki Marian | F46: T2 M | G46: WSTiR Warta
B47: 2 | C47: =IFERROR(VLOOKUP(B47,Arkusz1!$A$2:$E$43,5,FALSE),"") -> 0.024849537 | D47: Pietrzak Olgierd | E47: Pietrzak Beata | F47: T2 MIKST | G47: WSTiR Warta
B48: 73 | C48: =IFERROR(VLOOKUP(B48,Arkusz1!$A$2:$E$43,5,FALSE),"") | D48: Łada Roksana | F48: T1 K | G48: ŚKTK Neptun
B49: 24 | C49: =IFERROR(VLOOKUP(B49,Arkusz1!$A$2:$E$43,5,FALSE),"") | D49: Wielgus Kacper | F49: T1 M | G49: ŚKTK Neptun
B50: 17 | C50: =IFERROR(VLOOKUP(B50,Arkusz1!$A$2:$E$43,5,FALSE),"") -> 0.036967593 | D50: Burszczan Ireneusz` | E50: Burszczan Piotr | F50: T2 M | G50: ŚKTK Neptun
B51: 37 | C51: =IFERROR(VLOOKUP(B51,Arkusz1!$A$2:$E$43,5,FALSE),"") | D51: Burszczan Joanna | F51: T1 K | G51: ŚKTK Neptun
B52: 65 | C52: =IFERROR(VLOOKUP(B52,Arkusz1!$A$2:$E$43,5,FALSE),"") -> 0.027534722 | D52: Kołtan Magdalena | F52: T1 K | G52: Tołhaj GDK
B53: 32 | C53: =IFERROR(VLOOKUP(B53,Arkusz1!$A$2:$E$43,5,FALSE),"") | D53: Tkocz Gertruda | F53: T1 K | G53: ŚKTK Neptun
B54: 27 | C54: =IFERROR(VLOOKUP(B54,Arkusz1!$A$2:$E$43,5,FALSE),"") | D54: Tkocz Jacek | F54: T1 M | G54: ŚKTK Neptun
B55: 58 | C55: =IFERROR(VLOOKUP(B55,Arkusz1!$A$2:$E$43,5,FALSE),"") -> 0.027962963 | D55: Jagła Katarzyna | F55: T1 K | G55: Tołhaj GDK
B56: 14 | C56: =IFERROR(VLOOKUP(B56,Arkusz1!$A$2:$E$43,5,FALSE),"") -> 0.026342593 | D56: Glegoła Marcin | F56: T1 M | G56: Tołhaj GDK
C57: =IFERROR(VLOOKUP(B57,Arkusz1!$A$2:$E$43,5,FALSE),"") | D57: Potempa Mariusz | F57: T1 M | G57: Tołhaj GDK
B58: 34 | C58: =IFERROR(VLOOKUP(B58,Arkusz1!$A$2:$E$43,5,FALSE),"") | D58: Pytko Sebastian | E58: Pytko Gloria +Helena | F58: T2 MIKST | G58: ŚKTK Neptun
B59: 9 | C59: =IFERROR(VLOOKUP(B59,Arkusz1!$A$2:$E$43,5,FALSE),"") -> 0.029814815 | D59: Gliszczyński Grzegorz | F59: T1 M | G59: Tołhaj GDK
B60: 80 | C60: =IFERROR(VLOOKUP(B60,Arkusz1!$A$2:$E$43,5,FALSE),"") -> 0.042118056 | D60: Mordarski Miłosz | F60: T1 M
B61: 53 | C61: =IFERROR(VLOOKUP(B61,Arkusz1!$A$2:$E$43,5,FALSE),"") -> 0.041736111 | D61: Mordarska Katarzyna | F61: T1 K
B62: 4 | C62: =IFERROR(VLOOKUP(B62,Arkusz1!$A$2:$E$43,5,FALSE),"") | D62: Wydra Zuzanna | F62: T1 K | G62: ŚKTK Neptun
B63: 74 | C63: =IFERROR(VLOOKUP(B63,Arkusz1!$A$2:$E$43,5,FALSE),"") | D63: Pudło Zbigniew | E63: Ochot Czesław | F63: T2 M
B64: 7 | C64: =IFERROR(VLOOKUP(B64,Arkusz1!$A$2:$E$43,5,FALSE),"") | D64: Drozdek Michał | F64: T1 M
B65: 57 | C65: =IFERROR(VLOOKUP(B65,Arkusz1!$A$2:$E$43,5,FALSE),"") -> 0.026747685 | D65: Twardoń Adrian | E65: Kotas Paweł | F65: T2 M
B66: 31 | C66: =IFERROR(VLOOKUP(B66,Arkusz1!$A$2:$E$43,5,FALSE),"") -> 0.026377315 | D66: Ościłowicz Ewa | F66: T1 K | G66: Tołhaj GDK
B67: 38 | C67: =IFERROR(VLOOKUP(B67,Arkusz1!$A$2:$E$43,5,FALSE),"") -> 0.027199074 | D67: Kulanica Marta | F67: T1 K | G67: Tołhaj GDK
